BEGIN:VCALENDAR
VERSION:2.0
PRODID:-//ChamberMaster//Event Calendar 2.0//EN
METHOD:PUBLISH
X-PUBLISHED-TTL:P3D
REFRESH-INTERVAL:P3D
CALSCALE:GREGORIAN
BEGIN:VEVENT
DTSTART:20260430T183000Z
DTEND:20260430T190000Z
X-MICROSOFT-CDO-ALLDAYEVENT:FALSE
SUMMARY:Ribbon Cutting: Shine of Nashville
DESCRIPTION:Please join us as we celebrate the Ribbon Cutting of Shine of Nashville! Treats\, swag\, and information will be available. \n\nThis ribbon cutting will take place on the lawn between the Chamber Office and City Hall.
X-ALT-DESC;FMTTYPE=text/html:Please join us as we celebrate the Ribbon Cutting of Shine of Nashville! Treats\, swag\, and information will be available.&nbsp\;<br />\nThis ribbon cutting will take place on the lawn between the Chamber Office and City Hall.&nbsp\;
LOCATION:100 N. Main St. Goodlettsville\, TN The lawn between the Chamber office and City Hall.
UID:e.68.6911
SEQUENCE:3
DTSTAMP:20260420T001449Z
URL:https://business.goodlettsvillechamber.com/events/details/ribbon-cutting-shine-of-nashville-6911
END:VEVENT

END:VCALENDAR
